BEGIN:VCALENDAR
PRODID:NingEventWidget-v1
VERSION:2.0
METHOD:PUBLISH
BEGIN:VEVENT
UID:1992552:Event:150583
DTSTAMP:20260425T023059Z
SUMMARY:Betty Douglas in ZanaFest: the Venue @ Harmony Ridge, Ambridge
DESCRIPTION:3-day musical festival to raise funds for music scholarshi
 p and cancer research in honor of Richard D. Zana musician and music t
 eacher extraordinaire. Friday, Aug. 27 is Jazz & Blues night, with Bet
 ty Douglas & Friends on stage at 6:45pm. $10 for 3-day pass, $5 for si
 ngle day, children under 10, free.\n\nFor more information visit https
 ://jazzburgher.ning.com/events/betty-douglas-in-zanafest-the
DTSTART:20100827T160000Z
DTEND:20100829T180000Z
CATEGORIES:music, festival, benefit
LOCATION:The Venue at Harmony Ridge
WEBSITE:
URL:
CONTACT:
ORGANIZER;CN="Elizabeth  \"Betty\" Asche Douglas":https://jazzburgher.
 ning.com/profile/ElizabethBettyAscheDouglas
ATTACH;FMTTYPE="image/jpeg":
ATTENDEE;ROLE=REQ-PARTICIPANT;PARTSTAT=ACCEPTED;RSVP=TRUE;CN="Elizabet
 h  \"Betty\" Asche Douglas":https://jazzburgher.ning.com/profile/Eliza
 bethBettyAscheDouglas
ATTENDEE;ROLE=REQ-PARTICIPANT;PARTSTAT=TENTATIVE;RSVP=TRUE;CN="Marva J
 osie":https://jazzburgher.ning.com/profile/MarvaJosie
END:VEVENT
END:VCALENDAR
