BEGIN:VCALENDAR
PRODID:NingEventWidget-v1
VERSION:2.0
METHOD:PUBLISH
BEGIN:VEVENT
UID:1992552:Event:388489
DTSTAMP:20260424T230616Z
SUMMARY:BLUES ORPHANS TRIO returns to Sewickley.
DESCRIPTION:The Blues Orphans Trio:\nThat's Bob Gabig, a cool cat, on 
 guitar & vocals, prolific songwriter (funny but clean lyrics, folks). 
 The Chief! Survivor of many vicious baguette attacks.\n\n\n\nThat's Ne
 lson Harrison , trombone and trombetto and vocals... veteran of the C
 ount Basie Orchestra, Dionne Warwicke, James Brown, The (original) Sup
 remes and the (original) Temptations, Mary Wells, Little Stevie Wonder
 ; inventor, psychologist, Pittsburgh Jazz Network founder, metaphysici
 st, composer etc etc.\n\n\nThat's Bob's brother Andy Gabig, blues harp
 , jaw-dropping.\n\nFor more information visit https://jazzburgher.ning
 .com/events/blues-orphans-trio-returns-to-sewickley-1
DTSTART:20160729T200000Z
DTEND:20160729T220000Z
CATEGORIES:public, welcome, live, music, fine, food, drink, fun
LOCATION:VIVO KITCHEN
WEBSITE:http://vivokitchen.com
URL:http://vivokitchen.com
CONTACT:412-259-8945
ORGANIZER:BLUES ORPHANS
ATTACH;FMTTYPE="image/jpeg":http://storage.ning.com/topology/rest/1.0/
 file/get/1045044145?profile=original
ATTENDEE;ROLE=REQ-PARTICIPANT;PARTSTAT=ACCEPTED;RSVP=TRUE;CN="Dan Wass
 on":https://jazzburgher.ning.com/profile/DanWasson
ATTENDEE;ROLE=REQ-PARTICIPANT;PARTSTAT=ACCEPTED;RSVP=TRUE;CN="Dr. Nels
 on Harrison":https://jazzburgher.ning.com/profile/NelsonHarrison
END:VEVENT
END:VCALENDAR
