BEGIN:VCALENDAR
PRODID:NingEventWidget-v1
VERSION:2.0
METHOD:PUBLISH
BEGIN:VEVENT
UID:1992552:Event:106791
DTSTAMP:20260423T011650Z
SUMMARY:Ernie Hawkins Band with Professor Beautiful at Calliope
DESCRIPTION:Friday, February 5, 7:30 p.m.\nSimmons Hall at the Pittsbu
 rgh Center for the Arts, Shady and 5th Avenues.\nwww.calliopehouse.org
 \n\nThe Ernie Hawkins Band, with Marc Reisman on blues harps & harmoni
 cas,\nRoger Day on tuba, Paul Cosentino on clarinet, and Rich Strong o
 n washboard and snare.\n\nThis is a return engagement of a show we did
  last October, to rave reviews.\nhttp://community.post-gazette.com/blo
 gs/bluenotes/archive/2009/10/26/ernie-hawkins.aspx\n\n\"Ernie Hawkins 
 is an important link in the unbroken chain of blues and gospel artists
 . His guitaristry and love of the style is incomparable.\nFrom the Rev
 . Gary Davis into the future with his own style Ernie is one of the sp
 ecial ones!\"--Jorma Kaukonen\n\"Hubba hubba tuba.\" --Ed Blackwell\n\
 "Remember, it's condensation, not spit.\" -- Professor Beautiful\nPaul
  and Rich are members of the renowned Boilermakers Jazz Band.\nMarc wa
 s with the Iron City Houserockers throughout its heyday & performs wit
 h Bill Toms.\n\nFor more information visit https://jazzburgher.ning.co
 m/events/ernie-hawkins-band-with
DTSTART:20100205T190000Z
DTEND:20100205T213000Z
CATEGORIES:concert
LOCATION:Simmons Hall at the Pittsburgh Center for the Arts, Shady and
  5th Avenues
WEBSITE:
URL:
CONTACT:
ORGANIZER;CN="Roger S Day":https://jazzburgher.ning.com/profile/RogerS
 Day
ATTACH;FMTTYPE="image/jpeg":
ATTENDEE;ROLE=REQ-PARTICIPANT;PARTSTAT=ACCEPTED;RSVP=TRUE;CN="Roger S 
 Day":https://jazzburgher.ning.com/profile/RogerSDay
END:VEVENT
END:VCALENDAR
