BEGIN:VCALENDAR
PRODID:NingEventWidget-v1
VERSION:2.0
METHOD:PUBLISH
BEGIN:VEVENT
UID:1992552:Event:331382
DTSTAMP:20260422T092331Z
SUMMARY:HONORING THE ELDERS OF Local #471
DESCRIPTION:\n\nFor more information visit https://jazzburgher.ning.co
 m/events/honoring-the-elders-of-local-471
DTSTART:20140713T150000Z
DTEND:20140713T180000Z
CATEGORIES:ceremony, socializing, jam, session, movie
LOCATION:CJ's in the Strip
WEBSITE:
URL:
CONTACT:
ORGANIZER;CN="Dr. Nelson Harrison":https://jazzburgher.ning.com/profil
 e/NelsonHarrison
ATTACH;FMTTYPE="image/jpeg":http://storage.ning.com/topology/rest/1.0/
 file/get/1045001862?profile=original
ATTENDEE;ROLE=REQ-PARTICIPANT;PARTSTAT=ACCEPTED;RSVP=TRUE;CN="Dan Wass
 on":https://jazzburgher.ning.com/profile/DanWasson
ATTENDEE;ROLE=REQ-PARTICIPANT;PARTSTAT=ACCEPTED;RSVP=TRUE;CN="Dr. Nels
 on Harrison":https://jazzburgher.ning.com/profile/NelsonHarrison
END:VEVENT
END:VCALENDAR
