BEGIN:VCALENDAR
PRODID:NingEventWidget-v1
VERSION:2.0
METHOD:PUBLISH
BEGIN:VEVENT
UID:1992552:Event:238295
DTSTAMP:20260425T234107Z
SUMMARY:Intergalactic Holiday Spectacular with Phat Man Dee and Guarac
 ha!
DESCRIPTION:Carnegie Science Center presents the most rockin’ holida
 y happening this side of the Milky Way! Celebrate the holiday season w
 ith an astronomy-themed performance of multicultural music by local ja
 zz superstar Phat Man Dee with her band directed by Miguel Sague III, 
 of Guaracha, in the Buhl Digital Planetarium. Hear classic tunes like 
 “Fly Me to the Moon,” and “Stardust,” against stunning visuals
  that take you on a stellar journey through the universe. Be among the
  first to hear Mandee’s newest hit single, “Picksburgh Xmas” fro
 m her upcoming holiday album. This one-of-a-kind collaboration blends 
 jazz and science for an unforgettable extravaganza for adults and kids
  alike! See one show, or stay for both!\nThursday, Dec. 158 & 9:30 pm;
  each showtime is a unique performance.\nOne show: $15 advance / $20 d
 oorTwo shows: $25 advance / $35 door\n\nFor more information visit htt
 ps://jazzburgher.ning.com/events/intergalactic-holiday-spectacular-wit
 h-phat-man-dee-and-guaracha
DTSTART:20111215T200000Z
DTEND:20111215T223000Z
CATEGORIES:cd, release, performace, 2, seperate, "shows!"
LOCATION:The Buhl Planetarium at the Carnegie Science Center
WEBSITE:http://www.carnegiesciencecenter.org/phatmandee
URL:http://www.carnegiesciencecenter.org/phatmandee
CONTACT:412.237.3400, then press 7
ORGANIZER;CN="Phat Man Dee":https://jazzburgher.ning.com/profile/PhatM
 anDee
ATTACH;FMTTYPE="image/jpeg":http://storage.ning.com/topology/rest/1.0/
 file/get/1044956974?profile=original
ATTENDEE;ROLE=REQ-PARTICIPANT;PARTSTAT=ACCEPTED;RSVP=TRUE;CN="Phat Man
  Dee":https://jazzburgher.ning.com/profile/PhatManDee
END:VEVENT
END:VCALENDAR
