BEGIN:VCALENDAR
PRODID:NingEventWidget-v1
VERSION:2.0
METHOD:PUBLISH
BEGIN:VEVENT
UID:1992552:Event:94676
DTSTAMP:20260424T230616Z
SUMMARY:One To One w/ Kevin Amos on WRCT-FM
DESCRIPTION:“One to One” is a Sunday morning tradition for Pittsbu
 rgh and internet radio listeners.\n\nThe program is aired on the Inter
 net at www.wrct.org to a worldwide audience Sundays from 6AM-1PM EST. 
 Locally the program airs on frequency 88.3 FM on WRCT, the student-run
  station at Carnegie-Mellon University. The program has run weekly for
  the past 12 years.\nKevin Amos has consistantly supported the Pittsbu
 rgh music community and provided an outlet for all. His program is a c
 ebration of Black music. From the ancient to the future.\n\nHis radio 
 experience spans the past 31 years here in the Pittsburgh area.\n\nKev
 in is ALWAYS seeking releases from artists to expose his audience to. 
 To submit material for airplay contact him at: kevinamosproducer@hotma
 il.com.\nHe will not answer inquiries through email on the Jazz networ
 k.\n\nHe also seeks support from businesses and organizations in the f
 orm of underwriting.\nIf you are serious about promoting your efforts 
 through a reliable source contact him at the above listed email addres
 s.\n\nFor more information visit https://jazzburgher.ning.com/events/o
 ne-to-one-w-kevin-amos-on-1
DTSTART:20091025T050000Z
DTEND:20091025T110000Z
CATEGORIES:weekly, radio, program
LOCATION:WRCT Studios, Pittsburgh and at www.wrct.org
WEBSITE:http://www.wrct.org
URL:http://www.wrct.org
CONTACT:412-621-9728 (studio), 412-818-3789 (business phone)
ORGANIZER;CN="Kevin Amos":https://jazzburgher.ning.com/profile/Kevin6
ATTACH;FMTTYPE="image/jpeg":http://storage.ning.com/topology/rest/1.0/
 file/get/1044880964?profile=original
ATTENDEE;ROLE=REQ-PARTICIPANT;PARTSTAT=ACCEPTED;RSVP=TRUE;CN="Doug Jac
 kson":https://jazzburgher.ning.com/profile/DougJackson
ATTENDEE;ROLE=REQ-PARTICIPANT;PARTSTAT=ACCEPTED;RSVP=TRUE;CN="Pgh Rich
 ":https://jazzburgher.ning.com/profile/PghRich
ATTENDEE;ROLE=REQ-PARTICIPANT;PARTSTAT=ACCEPTED;RSVP=TRUE;CN="Kevin Am
 os":https://jazzburgher.ning.com/profile/Kevin6
ATTENDEE;ROLE=REQ-PARTICIPANT;PARTSTAT=TENTATIVE;RSVP=TRUE;CN="Marva J
 osie":https://jazzburgher.ning.com/profile/MarvaJosie
END:VEVENT
END:VCALENDAR
