BEGIN:VCALENDAR
PRODID:NingEventWidget-v1
VERSION:2.0
METHOD:PUBLISH
BEGIN:VEVENT
UID:1992552:Event:330473
DTSTAMP:20260419T124603Z
SUMMARY:RML Jazz at South Side Works
DESCRIPTION:The RML Jazz Trio will be performing at South Side Works t
 his Friday from 6-9pm, featuring Gene Laus on trumpet, Glenn Utsch on 
 keyboard, and Rick Laus on drums. It will be jazz smooth and hot outsi
 de, and you have to check out The Cheesecake Factory while you're ther
 e. Live jazz and cheesecake. What could be better?\n\nFor more informa
 tion visit https://jazzburgher.ning.com/events/rml-jazz-at-south-side-
 works-1
DTSTART:20140627T170000Z
DTEND:20140627T200000Z
CATEGORIES:live, jazz, outside
LOCATION:South Side Works
WEBSITE:
URL:
CONTACT:4123709621
ORGANIZER;CN="Rick Laus":https://jazzburgher.ning.com/profile/RickLaus
ATTACH;FMTTYPE="image/jpeg":http://storage.ning.com/topology/rest/1.0/
 file/get/1045001598?profile=original
ATTENDEE;ROLE=REQ-PARTICIPANT;PARTSTAT=ACCEPTED;RSVP=TRUE;CN="Rick Lau
 s":https://jazzburgher.ning.com/profile/RickLaus
END:VEVENT
END:VCALENDAR
